BEGIN:VCALENDAR
VERSION:2.0
PRODID:-//Leichtathletikvereinigung Thun - LVThun//NONSGML kigkonsult.se iC
 alcreator 2.16.12//
METHOD:PUBLISH
X-MS-OLK-FORCEINSPECTOROPEN:TRUE
BEGIN:VEVENT
UID:20260419T150248CEST-2771gUFszR@Leichtathletikvereinigung Thun - LVThun
DTSTAMP:20260419T130248Z
DESCRIPTION:UBS Kids Cup Team THUN\nNach dem gestrigen Mutationsschluss kon
 nte ich den definitiven Zeitplan für Sonntag erstellen. Insgesamt sind es 
 129 Teams\, welche am Sonntag in Thun starten werden. Ich wünsche allen ei
 nen guten Tag und freue mich\, Euch am Sonntag in Thun begrüssen zu dürfen
 .\nDaniel Eschmann ( Wettkampfchef LV Thun)\nInfos und Zeitplan\n
DTSTART:20180121T083000
DTEND:20180121T180000
LOCATION:Lachen
ORGANIZER:MAILTO:Leichtathletikvereinigung Thun - LVThun <webmaster@lvthun.
 ch>
SUMMARY:UBS Kids Cup Team THUN
END:VEVENT
END:VCALENDAR
