BEGIN:VCALENDAR
VERSION:2.0
PRODID:-//Leichtathletikvereinigung Thun - LVThun//NONSGML kigkonsult.se iC
 alcreator 2.16.12//
METHOD:PUBLISH
X-MS-OLK-FORCEINSPECTOROPEN:TRUE
BEGIN:VEVENT
UID:20260420T224335CEST-0567S2KXCo@Leichtathletikvereinigung Thun - LVThun
DTSTAMP:20260420T204335Z
DESCRIPTION:\nWebseite SM Staffel \n\nSite du Relais\n
DTSTART:20180902T083000
DTEND:20180902T190000
LOCATION:Stadion Lachen
ORGANIZER:MAILTO:Leichtathletikvereinigung Thun - LVThun <webmaster@lvthun.
 ch>
SUMMARY:Staffel SM 2018 Thun
END:VEVENT
END:VCALENDAR
