BEGIN:VCALENDAR
VERSION:2.0
PRODID:-//Leichtathletikvereinigung Thun - LVThun//NONSGML kigkonsult.se iC
 alcreator 2.16.12//
METHOD:PUBLISH
X-MS-OLK-FORCEINSPECTOROPEN:TRUE
BEGIN:VEVENT
UID:20260422T110404CEST-6264fJUFxa@Leichtathletikvereinigung Thun - LVThun
DTSTAMP:20260422T090404Z
DESCRIPTION:
DTSTART:20260905T000000
DTEND:20260906T235900
LOCATION:Stadion Lachen\, Thun
ORGANIZER:MAILTO:Leichtathletikvereinigung Thun - LVThun <webmaster@lvthun.
 ch>
SUMMARY:SM Nachwuchs U16 und U18
END:VEVENT
END:VCALENDAR
